BEGIN:VCALENDAR
VERSION:2.0
PRODID:-//Group of 78 - Le Groupe des 78 - ECPv6.15.20//NONSGML v1.0//EN
CALSCALE:GREGORIAN
METHOD:PUBLISH
X-ORIGINAL-URL:https://group78.org
X-WR-CALDESC:Events for Group of 78 - Le Groupe des 78
REFRESH-INTERVAL;VALUE=DURATION:PT1H
X-Robots-Tag:noindex
X-PUBLISHED-TTL:PT1H
BEGIN:VTIMEZONE
TZID:America/Toronto
BEGIN:DAYLIGHT
TZOFFSETFROM:-0500
TZOFFSETTO:-0400
TZNAME:EDT
DTSTART:20120311T070000
END:DAYLIGHT
BEGIN:STANDARD
TZOFFSETFROM:-0400
TZOFFSETTO:-0500
TZNAME:EST
DTSTART:20121104T060000
END:STANDARD
BEGIN:DAYLIGHT
TZOFFSETFROM:-0500
TZOFFSETTO:-0400
TZNAME:EDT
DTSTART:20130310T070000
END:DAYLIGHT
BEGIN:STANDARD
TZOFFSETFROM:-0400
TZOFFSETTO:-0500
TZNAME:EST
DTSTART:20131103T060000
END:STANDARD
BEGIN:DAYLIGHT
TZOFFSETFROM:-0500
TZOFFSETTO:-0400
TZNAME:EDT
DTSTART:20140309T070000
END:DAYLIGHT
BEGIN:STANDARD
TZOFFSETFROM:-0400
TZOFFSETTO:-0500
TZNAME:EST
DTSTART:20141102T060000
END:STANDARD
BEGIN:DAYLIGHT
TZOFFSETFROM:-0500
TZOFFSETTO:-0400
TZNAME:EDT
DTSTART:20150308T070000
END:DAYLIGHT
BEGIN:STANDARD
TZOFFSETFROM:-0400
TZOFFSETTO:-0500
TZNAME:EST
DTSTART:20151101T060000
END:STANDARD
BEGIN:DAYLIGHT
TZOFFSETFROM:-0500
TZOFFSETTO:-0400
TZNAME:EDT
DTSTART:20160313T070000
END:DAYLIGHT
BEGIN:STANDARD
TZOFFSETFROM:-0400
TZOFFSETTO:-0500
TZNAME:EST
DTSTART:20161106T060000
END:STANDARD
BEGIN:DAYLIGHT
TZOFFSETFROM:-0500
TZOFFSETTO:-0400
TZNAME:EDT
DTSTART:20170312T070000
END:DAYLIGHT
BEGIN:STANDARD
TZOFFSETFROM:-0400
TZOFFSETTO:-0500
TZNAME:EST
DTSTART:20171105T060000
END:STANDARD
BEGIN:DAYLIGHT
TZOFFSETFROM:-0500
TZOFFSETTO:-0400
TZNAME:EDT
DTSTART:20180311T070000
END:DAYLIGHT
BEGIN:STANDARD
TZOFFSETFROM:-0400
TZOFFSETTO:-0500
TZNAME:EST
DTSTART:20181104T060000
END:STANDARD
BEGIN:DAYLIGHT
TZOFFSETFROM:-0500
TZOFFSETTO:-0400
TZNAME:EDT
DTSTART:20190310T070000
END:DAYLIGHT
BEGIN:STANDARD
TZOFFSETFROM:-0400
TZOFFSETTO:-0500
TZNAME:EST
DTSTART:20191103T060000
END:STANDARD
END:VTIMEZONE
BEGIN:VEVENT
DTSTART;TZID=America/Toronto:20180327T120000
DTEND;TZID=America/Toronto:20180327T140000
DTSTAMP:20260421T060400
CREATED:20180117T172025Z
LAST-MODIFIED:20180404T151129Z
UID:3347-1522152000-1522159200@group78.org
SUMMARY:South Africa and Zimbabwe  - Limits to Change
DESCRIPTION:Group of 78 Luncheon Speaker Series\nFeaturing:Linda Freeman \nSouth Africa and Zimbabwe – Limits to Change (PDF)\nPaper from Linda Freeman is now available to download!\n* Please Note: This paper is for a festschrift collection\, not for quotation or reproduction\n\n\n\nMarch 27\, 2018 \n 12:00 p.m.\n East India Company Pub & Eatery\,  \n 210 Somerset St W.\, Ottawa\n\n\n\n  \n$30 for luncheon and presentation (12:00 p.m.) \n$5 for presentation only (arrive 12:45 p.m. Coffee and tea will be available) \n RESERVATIONS: Group78@group78.org  613-565-9449 ext. 22 by Friday\, March 23\, 2018 by 12:00 pm \nLate registrations are welcome for presentation only. \nIndividuals who do not cancel their reservations at least 24 hours before the luncheon will be billed $30. \nOnline Registration \n  \nIn the last months\, events have produced a reconfiguration of forces in both Zimbabwe and South Africa.  In Zimbabwe\, the 37-year old regime of Robert Mugabe came to an end\, while in South Africa Cyril Ramaphosa emerged as a powerful alternative to Jacob Zuma. \nWhat a difference a year has made or has it? \nThis talk will explore the origins and nature of change in these two southern African countries and assess its significance. Does the rise to power of an authoritarian political leader in Zimbabwe offer a glimpse of South Africa’s future?  Or will the different historical terrain and stronger institutions (the judiciary\, the media\, the political opposition and civil society) enable a positive alternative?  Above all\, what prospects are there for democratic forces within each country to secure greater accountability from hitherto dominant forces – be they corporate or state\, foreign or local? \n Linda Freeman \nLinda Freeman is an emeritus professor in the Department of Political Science and the Institute of African Studies at Carleton University.  Her study The Ambiguous Champion – Canada and South Africa in the Trudeau and Mulroney Years won the Harold Adams Innis Prize for best book in the social sciences\, written in English in 1998/9.  She specializes in African political economy\, with a particular interest in southern Africa.  She is working on a manuscript on South African relations with Zimbabwe. She has testified regularly to parliamentary sub-committees and is a frequent commentator on African affairs for the Canadian media. \n 
URL:https://group78.org/event/syrian-refugees-no-relief-in-sight-2/
LOCATION:East India Company Pub & Eatery\, Ottawa\, 210 Somerset St W\, Ottawa\, ON\, K2P 0J4\, Canada
CATEGORIES:Luncheon
ATTACH;FMTTYPE=image/jpeg:https://group78.org/wp-content/uploads/2018/02/2018-03-Lunch-Photo.jpg
ORGANIZER;CN="Sarah Bowles":MAILTO:group78@group78.org
END:VEVENT
BEGIN:VEVENT
DTSTART;TZID=America/Toronto:20170619T120000
DTEND;TZID=America/Toronto:20170619T140000
DTSTAMP:20260421T060400
CREATED:20170529T145603Z
LAST-MODIFIED:20170705T150635Z
UID:2883-1497873600-1497880800@group78.org
SUMMARY:Akaash Maharaj: Bringing Kleptocrats to Justice
DESCRIPTION:Group of 78 Luncheon Speaker Series\n  \nAkaash Maharaj\n  \nBringing Kleptocrats to Justice\n\n\n\n  \nTuesday June 19\, 2017 \n12:00 p.m.\n  \nPalais Imperial Restaurant\, \n311- 313 Dalhousie St.\, Ottawa\n\n\n\n  \nRESERVATIONS: Group78@group78.org  613-565-9449 ext. 22 by Friday June 16\, 2017 by 12:00 pm \n**************************************************** \nView the Power Point Presentation\nEvery year\, corruption kills 140\,000 children worldwide\, by depriving them of medical care\, food\, and water.  Yet\, far too often\, the perpetrators of the most outrageous acts of corruption are able to use their illicit wealth and power to pervert the very laws and institutions that should call them to account.  As a result\, the worst offenders are the least likely to face domestic justice. \nAkaash Maharaj will explain how the Global Organization of Parliamentarians Against Corruption (GOPAC) is working to establish “grand corruption” as a crime at international law\, to enable international institutions to pursue\, apprehend\, prosecute\, judge\, and ultimately sentence the guilty.  He will lay out the options GOPAC is pursuing\, and the prospects for success. \nAkaash Maharaj is Chief Executive Officer of the Global Organization of Parliamentarians Against Corruption (GOPAC)\, and leads the international alliance of democratically‑elected legislators in its work combatting corruption\, strengthening good government\, and upholding the rule of law.  GOPAC has 60 national chapters\, and is present in every region of the world. \nA frequent contributor to international debate\, his articles have been published by newspapers in every populated continent.  He appeared as a broadcast essayist with TVOntario’s “The Agenda”\, and Maclean’s magazine named him as one of Canada’s 50 “most well known and respected personalities”. \nOutside of his professional life\, he is an international athlete\, and was a triple gold medallist at the International Championships of Equestrian Skill‑at‑Arms. \nAkaash earned his MA from Oxford University in Philosophy\, Politics\, and Economics\, and was the first overseas student elected President of the student government in the University’s history.  He is a Fellow of the Royal Society of Arts\, of the Royal Asiatic Society\, and of the Royal Canadian Geographical Society. \n\n$30 for luncheon and presentation (12:00 p.m.) \n$5 for presentation only (arrive 12:45 p.m. Coffee and tea will be available) \n RESERVATIONS: Group78@group78.org  613-565-9449 ext. 22 by Friday June 16\, 2017 by 12:00 pm \nLate registrations are welcome for presentation only. \nIndividuals who do not cancel their reservations at least 24 hours before the luncheon will be billed $30.
URL:https://group78.org/event/2883/
LOCATION:Palais Imperial Restaurant\, 311- 313 Dalhousie St.\, Ottawa\, Ontario\, Canada
CATEGORIES:Luncheon
ATTACH;FMTTYPE=image/jpeg:https://group78.org/wp-content/uploads/2017/01/akaash.jpg
END:VEVENT
BEGIN:VEVENT
DTSTART;TZID=America/Toronto:20170530T120000
DTEND;TZID=America/Toronto:20170530T140000
DTSTAMP:20260421T060400
CREATED:20170529T150044Z
LAST-MODIFIED:20170613T181515Z
UID:2887-1496145600-1496152800@group78.org
SUMMARY:Maude Barlow: Water for Sale - How Trade and Investment Agreements Threaten Environmental Protection of Water and Promote the Commodification of the World’s Water
DESCRIPTION:Group of 78 Luncheon Speaker Series\nMaude Barlow\n  \nWater for Sale: How Trade and Investment Agreements Threaten Environmental Protection of Water and Promote the Commodification of the World’s Water\n\n\n\n  \nTuesday May 30\, 2017 \n12:00 p.m.\n  \nPalais Imperial Restaurant\, \n311- 313 Dalhousie St.\, Ottawa\n\n\n\n  \nRESERVATIONS: Group78@group78.org  613-565-9449 ext. 22 by Friday\, May 27\, 2017\, by 12:00 pm \n**************************************************** \nMaude will not only outline the threat of agreement like NAFTA and CETA to water but will put forward a way to protect water in trade deals. \nMaude Barlow is the National Chairperson of the Council of Canadians and chairs the board of Washington-based Food and Water Watch. She serves on the executive of the Global Alliance for the Rights of Nature and is a Councillor with the Hamburg-based World Future Council. \nMaude is the recipient of fourteen honorary doctorates as well as many awards\, including the 2005 Right Livelihood Award (known as the “Alternative Nobel”)\, the 2005 Lannan Foundation Cultural Freedom Fellowship Award\, the Citation of Lifetime Achievement at the 2008 Canadian Environment Awards\, the 2009 Earth Day Canada Outstanding Environmental Achievement Award\, the 2009 Planet in Focus Eco Hero Award\, and the 2011 EarthCare Award\, the highest international honour of the Sierra Club (US). \nIn 2008/2009\, she served as Senior Advisor on Water to the 63rd President of the United Nations General Assembly and was a leader in the campaign to have water recognized as a human right by the UN. She is also the author of dozens of reports\, as well as 18 books\, including her latest\, Boiling Point: Government Neglect\, Corporate Abuse\, and Canada’s Water Crisis. \n\nYou can also read: \nMaudeBarlow\,  Water for Sale: How Free Trade and Investment Agreements\nThreaten Environmental Protection of Water and\nPromote the Commodification of the World’s Water\n\n$30 for luncheon and presentation (12:00 p.m.) \n$5 for presentation only (arrive 12:45 p.m. coffee and tea will be available) \n RESERVATIONS: Group78@group78.org  613-565-9449 ext. 22 by Friday May 27\, 2017 by 12:00 pm \nLate registrations are welcome for presentation only. \nIndividuals who do not cancel their reservations at least 24 hours before the luncheon will be billed $30.
URL:https://group78.org/event/2887/
LOCATION:Palais Imperial Restaurant\, 311- 313 Dalhousie St.\, Ottawa\, Ontario\, Canada
CATEGORIES:Luncheon
ATTACH;FMTTYPE=image/jpeg:https://group78.org/wp-content/uploads/2017/04/Maude-Barlow2-by-Michelle-Valberg-July-2016Croped-1.jpg
END:VEVENT
BEGIN:VEVENT
DTSTART;TZID=America/Toronto:20170425T120000
DTEND;TZID=America/Toronto:20170425T140000
DTSTAMP:20260421T060400
CREATED:20170415T203229Z
LAST-MODIFIED:20170415T215037Z
UID:2698-1493121600-1493128800@group78.org
SUMMARY:Complex security challenges: Whither the Comprehensive Approach?
DESCRIPTION:Luncheon Series\n  \n \nApril 25\, 2017 – Michael Rostek \nComplex security challenges: Whither the Comprehensive Approach?
URL:https://group78.org/event/complex-security-challenges-whither-the-comprehensive-approach/
LOCATION:Palais Imperial Restaurant\, 311- 313 Dalhousie St.\, Ottawa\, Ontario\, Canada
CATEGORIES:Luncheon
ORGANIZER;CN="Sarah Bowles":MAILTO:group78@group78.org
END:VEVENT
BEGIN:VEVENT
DTSTART;TZID=America/Toronto:20170328T140000
DTEND;TZID=America/Toronto:20170328T160000
DTSTAMP:20260421T060400
CREATED:20170328T210000Z
LAST-MODIFIED:20170415T213425Z
UID:2714-1490709600-1490716800@group78.org
SUMMARY:Angella MacEwan: Technology\, Trade\, and the Future of Work
DESCRIPTION: March 28\, 2017 – Angella MacEwen\n \nTechnology\, trade\, and the future of work\n 
URL:https://group78.org/event/angella-macewan-technology-trade-and-the-future-of-work/
LOCATION:Palais Imperial Restaurant\, 311- 313 Dalhousie St.\, Ottawa\, Ontario\, Canada
CATEGORIES:Luncheon
ORGANIZER;CN="Sarah Bowles":MAILTO:group78@group78.org
END:VEVENT
BEGIN:VEVENT
DTSTART;TZID=America/Toronto:20170228T120000
DTEND;TZID=America/Toronto:20170228T140000
DTSTAMP:20260421T060400
CREATED:20170228T220006Z
LAST-MODIFIED:20170415T213147Z
UID:2713-1488283200-1488290400@group78.org
SUMMARY:Rolf Holmboe: Syria\, ISIS and the Prospects for Sustainable Peace
DESCRIPTION:February 28\, 2017 – Rolf Holmboe\n\nSyria\, ISIS and the Prospects for Sustainable Peace
URL:https://group78.org/event/rolf-holmboe-syria-isis-and-the-prospects-for-sustainable-peace/
LOCATION:Palais Imperial Restaurant\, 311- 313 Dalhousie St.\, Ottawa\, Ontario\, Canada
CATEGORIES:Luncheon
ORGANIZER;CN="Sarah Bowles":MAILTO:group78@group78.org
END:VEVENT
BEGIN:VEVENT
DTSTART;TZID=America/Toronto:20170131T120000
DTEND;TZID=America/Toronto:20170131T140000
DTSTAMP:20260421T060400
CREATED:20170131T220025Z
LAST-MODIFIED:20170415T212541Z
UID:2711-1485864000-1485871200@group78.org
SUMMARY:Dan Ciuriak - So Long\, Globalization
DESCRIPTION:      January 31\, 2017 – Dan Ciuriak\nSo Long\, Globalization V2: The Causes and Consequences\n\n\nPowerPoint Presentation and Text
URL:https://group78.org/event/dan-ciuriak-so-long-globalization/
LOCATION:Palais Imperial Restaurant\, 311- 313 Dalhousie St.\, Ottawa\, Ontario\, Canada
CATEGORIES:Luncheon
ORGANIZER;CN="Sarah Bowles":MAILTO:group78@group78.org
END:VEVENT
BEGIN:VEVENT
DTSTART;TZID=America/Toronto:20141223T120000
DTEND;TZID=America/Toronto:20141223T140000
DTSTAMP:20260421T060400
CREATED:20141223T045532Z
LAST-MODIFIED:20141223T045532Z
UID:2020-1419336000-1419343200@group78.org
SUMMARY:Ron Labonté - Ebola: What does it tell us about the state of Global Health?
DESCRIPTION:Ebola: What does it tell us about the state of Global Health?\nDATE: Tuesday January 27\, 2015 \nTIME: 12:00 noon (sharp)\nPLACE: Palais Imperial Restaurant\,\n311- 313 Dalhousie St.\, Ottawa \nLuncheon Notice Labonte Jan 2015 \nCOST: $30 for luncheon and presentation\n$5 for presentation only \n(For presentation only\, please plan to arrive by 12:45 p.m. Coffee and tea will be available.) \nRESERVATIONS: group78@group78.org  or 613-230-0860 by Friday January 23\, 2015 \nWe regret that late registrations cannot be accepted.
URL:https://group78.org/event/ron-labonte-ebola-what-does-it-tell-us-about-the-state-of-global-health/
LOCATION:Palais Imperial Restaurant\, 311- 313 Dalhousie St.\, Ottawa\, Ontario\, Canada
CATEGORIES:Luncheon
ORGANIZER;CN="Mary Edwards":MAILTO:group78@web.net
END:VEVENT
BEGIN:VEVENT
DTSTART;TZID=America/Toronto:20140624T120000
DTEND;TZID=America/Toronto:20140624T140000
DTSTAMP:20260421T060400
CREATED:20140603T131316Z
LAST-MODIFIED:20140603T132808Z
UID:1826-1403611200-1403618400@group78.org
SUMMARY:Climate Change: From Science to Policy
DESCRIPTION:Dr. John Stone\nClimate Change: From Science to Policy\nLuncheon notice Stone June 24 2014 \nDATE: Tuesday June 24\, 2014\nTIME: 12:00 noon (sharp)\nPLACE: Palais Imperial Restaurant\, 311- 313 Dalhousie St.\, Ottawa\nCOST: $30 for luncheon and presentation\, $5 for presentation only\nFor presentation only\, please plan to arrive by 12:45 p.m. Coffee and tea will be available. \nRESERVATIONS: Call 613-230-0860 or email \n by Friday\, June 20\, 2014. \nWe regret that late registrations cannot be accepted.\nThe group is required to pay for those who reserve but do not come.\nTherefore\, individuals who do not cancel their reservations at least 24 hours before the luncheon will be billed $30.
URL:https://group78.org/event/climate-change-from-science-to-policy/
LOCATION:Palais Imperial Restaurant\, 311- 313 Dalhousie St.\, Ottawa\, Ontario\, Canada
CATEGORIES:Luncheon
ORGANIZER;CN="Mary Edwards":MAILTO:group78@web.net
END:VEVENT
BEGIN:VEVENT
DTSTART;TZID=America/Toronto:20140527T120000
DTEND;TZID=America/Toronto:20140527T140000
DTSTAMP:20260421T060400
CREATED:20140509T134046Z
LAST-MODIFIED:20140509T134744Z
UID:1762-1401192000-1401199200@group78.org
SUMMARY:Some Directions for an Alternative Canadian Foreign Policy
DESCRIPTION:John E. Trent\nSome Directions for an Alternative Canadian Foreign Policy\nDATE: Tuesday May 27\, 2014\nTIME: 12:00 noon (sharp)\nPLACE: Palais Imperial Restaurant\, 311- 313 Dalhousie St.\, Ottawa\nCOST: $30 for luncheon and presentation\, $5 for presentation only\nFor presentation only\, please plan to arrive by 12:45 p.m. Coffee and tea will be available. \nRESERVATIONS: Call 613-230-0860 by Friday\, May 23\, 2014. \nTrent May 27 2014 \nWe regret that late registrations cannot be accepted.\nThe group is required to pay for those who reserve but do not come.\nTherefore\, individuals who do not cancel their reservations at least 24 hours before the luncheon will be billed $30.
URL:https://group78.org/event/1762/
LOCATION:Palais Imperial Restaurant\, 311- 313 Dalhousie St.\, Ottawa\, Ontario\, Canada
CATEGORIES:Luncheon
ORGANIZER;CN="Mary Edwards":MAILTO:group78@web.net
END:VEVENT
BEGIN:VEVENT
DTSTART;TZID=America/Toronto:20140429T120000
DTEND;TZID=America/Toronto:20140429T140000
DTSTAMP:20260421T060400
CREATED:20140328T135931Z
LAST-MODIFIED:20170425T182158Z
UID:1691-1398772800-1398780000@group78.org
SUMMARY:Redefining State Sovereignty: Historical Flaws and Contemporary Crises
DESCRIPTION:Errol P. Mendes\nRedefining State Sovereignty:\n\nHistorical Flaws and Contemporary Crises\nDATE: Tuesday April 29\, 2014\nTIME: 12:00 noon (sharp)\nPLACE: Palais Imperial Restaurant\, 311- 313 Dalhousie St.\, Ottawa\nCOST: $30 for luncheon and presentation\, $5 for presentation only\nFor presentation only\, please plan to arrive by 12:45 p.m. Coffee and tea will be available. \nRESERVATIONS: Call 613-230-0860 by Friday\, April 25\, 2014. \nMendes Luncheon notice April 29 \nWe regret that late registrations cannot be accepted.\nThe group is required to pay for those who reserve but do not come.\nTherefore\, individuals who do not cancel their reservations at least 24 hours before the luncheon will be billed $30.
URL:https://group78.org/event/redefining-state-sovereignty-historical-flaws-and-contemporary-crises/
LOCATION:Palais Imperial Restaurant\, 311- 313 Dalhousie St.\, Ottawa\, Ontario\, Canada
CATEGORIES:Luncheon
ORGANIZER;CN="Mary Edwards":MAILTO:group78@web.net
END:VEVENT
BEGIN:VEVENT
DTSTART;TZID=America/Toronto:20140325T120000
DTEND;TZID=America/Toronto:20140325T140000
DTSTAMP:20260421T060400
CREATED:20140306T172729Z
LAST-MODIFIED:20170425T182900Z
UID:1456-1395748800-1395756000@group78.org
SUMMARY:"Not for Sale" Slavery and human trafficking in Canada and around the world
DESCRIPTION:Mike Perry\n“Not for Sale” Slavery and human trafficking in Canada and around the world\nDATE: Tuesday\, March 25\, 2014\nTIME: 12:00 noon (sharp)\nPLACE: Palais Imperial Restaurant\, 311- 313 Dalhousie St.\, Ottawa\nCOST: $30 for luncheon and presentation\, $5 for presentation only\nFor presentation only\, please plan to arrive by 12:45 p.m. Coffee and tea will be available. \nRESERVATIONS: Call 613-230-0860 by Friday\, March 21\, 2014. \nPerry March 25 2014 Luncheon Notice \nWe regret that late registrations cannot be accepted.\nThe group is required to pay for those who reserve but do not come.\nTherefore\, individuals who do not cancel their reservations at least 24 hours before the luncheon will be billed $30.
URL:https://group78.org/event/not-for-sale-slavery-and-human-trafficking-in-canada-and-around-the-world/
LOCATION:Palais Imperial Restaurant\, 311- 313 Dalhousie St.\, Ottawa\, Ontario\, Canada
CATEGORIES:Luncheon
ORGANIZER;CN="Mary Edwards":MAILTO:group78@web.net
END:VEVENT
BEGIN:VEVENT
DTSTART;TZID=America/Toronto:20140225T000000
DTEND;TZID=America/Toronto:20140225T140000
DTSTAMP:20260421T060400
CREATED:20140308T195723Z
LAST-MODIFIED:20170425T182755Z
UID:1461-1393286400-1393336800@group78.org
SUMMARY:Pluralism: A Pressing Global Challenge
DESCRIPTION:John McNee\nPluralism: A Pressing Global Challenge\n \nDATE: Tuesday February 25\, 2014 \nTIME: 12:00 noon (sharp)\nPLACE: Palais Imperial Restaurant\, 311- 313 Dalhousie St.\, Ottawa\nCOST: $30 for luncheon and presentation\, $5 for presentation only\nFor presentation only\, please plan to arrive by 12:45 p.m. Coffee and tea will be available. \nRESERVATIONS: Call 613-230-0860 by Friday\, February 21\, 2014. \nMcNee luncheon notice Feb 25 2014 \nWe regret that late registrations cannot be accepted.\nThe group is required to pay for those who reserve but do not come.\nTherefore\, individuals who do not cancel their reservations at least 24 hours before the luncheon will be billed $30.
URL:https://group78.org/event/pluralism-a-pressing-global-challenge/
LOCATION:Palais Imperial Restaurant\, 311- 313 Dalhousie St.\, Ottawa\, Ontario\, Canada
CATEGORIES:Luncheon
ORGANIZER;CN="Mary Edwards":MAILTO:group78@web.net
END:VEVENT
BEGIN:VEVENT
DTSTART;TZID=America/Toronto:20140128T120000
DTEND;TZID=America/Toronto:20140128T140000
DTSTAMP:20260421T060400
CREATED:20140116T160309Z
LAST-MODIFIED:20170425T183347Z
UID:1024-1390910400-1390917600@group78.org
SUMMARY:Bali and Beyond: The Future of the World Trading System
DESCRIPTION:John Curtis\nBali and Beyond: the Future of the World Trading System\n\nDATE: Tuesday January 28\, 2014 \nTIME: 12:00 noon (sharp) \nPLACE: Palais Imperial Restaurant\, 311- 313 Dalhousie St.\, Ottawa \nCOST: $30 for luncheon and presentation\, $5 for presentation only \nFor presentation only\, please plan to arrive by 12:45 p.m. Coffee and tea will be available. \nRESERVATIONS: Call 613-230-0860 by Friday\, January 24\, 2014. \nJohn Curtis Luncheon Notice \nWe regret that late registrations cannot be accepted. \nThe group is required to pay for those who reserve but do not come. \nTherefore\, individuals who do not cancel their reservations at least 24 hours before the luncheon will be billed $30.
URL:https://group78.org/event/bali-and-beyond-the-future-of-the-world-trading-system/
LOCATION:Palais Imperial Restaurant\, 311- 313 Dalhousie St.\, Ottawa\, Ontario\, Canada
CATEGORIES:Luncheon
ORGANIZER;CN="Mary Edwards":MAILTO:group78@web.net
END:VEVENT
BEGIN:VEVENT
DTSTART;TZID=America/Toronto:20131119T120000
DTEND;TZID=America/Toronto:20131119T140000
DTSTAMP:20260421T060400
CREATED:20131112T045220Z
LAST-MODIFIED:20170425T183741Z
UID:77-1384862400-1384869600@group78.org
SUMMARY:From Sea Kings to F-35s: What’s wrong with Canadian military procurement?
DESCRIPTION:From Sea Kings to F-35s: What’s wrong with Canadian military procurement?\nMichael Byers\nNovember 19\, 2013\n12:00 noon\, presentation 1:00 p.m.\nPalais Imperial Restaurant\, 311- 313 Dalhousie St. \, Ottawa\nLuncheon Program\nRESERVATIONS: Call 613-230-0860 by Friday\, November 15\, 2013.\nWe regret that late registrations cannot be accepted.\nThe group is required to pay for those who reserve but do not come.\nTherefore\, individuals who do not cancel their reservations at least 24 hours before the luncheon will be billed $30.
URL:https://group78.org/event/from-sea-kings-to-f-35s-whats-wrong-with-canadian-military-procurement/
LOCATION:Palais Imperial Restaurant\, 311- 313 Dalhousie St.\, Ottawa\, Ontario\, Canada
CATEGORIES:Luncheon
ORGANIZER;CN="Mary Edwards":MAILTO:group78@web.net
END:VEVENT
END:VCALENDAR