BEGIN:VCALENDAR
VERSION:2.0
PRODID:-//Group of 78 - Le Groupe des 78 - ECPv6.15.20//NONSGML v1.0//EN
CALSCALE:GREGORIAN
METHOD:PUBLISH
X-WR-CALNAME:Group of 78 - Le Groupe des 78
X-ORIGINAL-URL:https://group78.org
X-WR-CALDESC:Events for Group of 78 - Le Groupe des 78
REFRESH-INTERVAL;VALUE=DURATION:PT1H
X-Robots-Tag:noindex
X-PUBLISHED-TTL:PT1H
BEGIN:VTIMEZONE
TZID:America/Toronto
BEGIN:DAYLIGHT
TZOFFSETFROM:-0500
TZOFFSETTO:-0400
TZNAME:EDT
DTSTART:20190310T070000
END:DAYLIGHT
BEGIN:STANDARD
TZOFFSETFROM:-0400
TZOFFSETTO:-0500
TZNAME:EST
DTSTART:20191103T060000
END:STANDARD
BEGIN:DAYLIGHT
TZOFFSETFROM:-0500
TZOFFSETTO:-0400
TZNAME:EDT
DTSTART:20200308T070000
END:DAYLIGHT
BEGIN:STANDARD
TZOFFSETFROM:-0400
TZOFFSETTO:-0500
TZNAME:EST
DTSTART:20201101T060000
END:STANDARD
BEGIN:DAYLIGHT
TZOFFSETFROM:-0500
TZOFFSETTO:-0400
TZNAME:EDT
DTSTART:20210314T070000
END:DAYLIGHT
BEGIN:STANDARD
TZOFFSETFROM:-0400
TZOFFSETTO:-0500
TZNAME:EST
DTSTART:20211107T060000
END:STANDARD
END:VTIMEZONE
BEGIN:VEVENT
DTSTART;TZID=America/Toronto:20200225T120000
DTEND;TZID=America/Toronto:20200225T140000
DTSTAMP:20260421T112335
CREATED:20180925T040025Z
LAST-MODIFIED:20200123T184910Z
UID:4252-1582632000-1582639200@group78.org
SUMMARY:February 25\, Adapt to Survive - Luncheon Speaker Series
DESCRIPTION:Group of 78 Luncheon Speaker Series\nDR. Edward W. (Ted) Manning\nEvent PDF \n\n\n\nTuesday\, February 25\, 2020 \n 12:00 p.m. \n Palais Imperial Restaurant\, \n 311- 313 Dalhousie St.\, Ottawa\n\n\n\n  \n$30 for luncheon and presentation (12:00 p.m.) \n$5 for presentation only (arrive 12:45 p.m. Coffee and tea will be available) \nRESERVATIONS: Group78@group78.org\, 613-565-9449 ext. 22 or Eventbrite \nJoin us for Lunch RSVP by Friday\, February 21\, 2020\, at 12:00 p.m.\, presentation only participants are welcome to walk in\, seating is on a first-come-first-serve basis. \nPayment/registration options:\n1) Interac e-transfer: direct deposit payment to group78@group78.org\, please include a note with your name and email.\n2) e-mail RSVP  (cheque\, cash\, credit\, debit at the door):\n3) Online (Eventbrite) \nOnline Registration \n*Individuals who do not cancel their reservations for the lunch at least 24 hours before the luncheon will be billed $30. \nOutline \nIn an ideal world\, humanity would take such actions as are required to limit climate change to levels compatible with sustaining the global ecosystem.  It is becoming increasingly clear that the choice of a path that keeps global warming below 2 degrees is unlikely\, and that humans and other creatures will\, therefore\, need to live with the results. \nDr. Manning will discuss adaptation strategies prepared for various UN agencies and national governments primarily focused on small islands\, coastal zones and World Heritage sites\, and developing risk management methods for the UN World Tourism Organization. He will also cover work by international organizations to define scenarios and practical tools towards creating more robust responses in support of survival.   Ted will then review some global approaches\, such as those underway with Small Island Developing States and with tourism in coastal zones and fragile ecosystems. \nThe presentation will end with a brief discussion of what it may mean for individual Canadians and their communities.  Even if we get it right\, the transition is unlikely to be smooth and it does not hurt to be prepared. \nEdward W. (Ted) Manning \nTed Manning is President of Tourisk Inc.\, based in Ottawa Canada and providing integrated planning for heritage sites and tourism destinations worldwide.  Dr. Manning has worked in environmentally and culturally sensitive areas for the UN World Tourism Organization\, (UNWTO) the World Wildlife Fund and in over 50 countries in Asia\, Africa\, Europe\, and the Americas.  He served as Executive Manager\, Sustainable Tourism for Tourism Canada\, and as a planner for Environment Canada and the Canadian International Development Agency. He has published 23 books and over 100 articles on development\, tourism and environmental management topics. \nHe has also served as Chair of the Board of Directors of the Canadian Association for the Club of Rome\, as President of the Canadian Association of Geographers and as an Adjunct Professor of Geography and Environmental Studies at Carleton University.
URL:https://group78.org/event/25-02-2020-luncheon/
LOCATION:Palais Imperial Restaurant\, 311- 313 Dalhousie St.\, Ottawa\, Ontario\, Canada
CATEGORIES:Luncheon
ATTACH;FMTTYPE=image/jpeg:https://group78.org/wp-content/uploads/2018/09/2020-02-25-Lunch.jpg
ORGANIZER;CN="Sarah Bowles":MAILTO:group78@group78.org
END:VEVENT
END:VCALENDAR