BEGIN:VCALENDAR
VERSION:2.0
PRODID:-//Group of 78 - Le Groupe des 78 - ECPv6.15.20//NONSGML v1.0//EN
CALSCALE:GREGORIAN
METHOD:PUBLISH
X-WR-CALNAME:Group of 78 - Le Groupe des 78
X-ORIGINAL-URL:https://group78.org
X-WR-CALDESC:Events for Group of 78 - Le Groupe des 78
REFRESH-INTERVAL;VALUE=DURATION:PT1H
X-Robots-Tag:noindex
X-PUBLISHED-TTL:PT1H
BEGIN:VTIMEZONE
TZID:America/Toronto
BEGIN:DAYLIGHT
TZOFFSETFROM:-0500
TZOFFSETTO:-0400
TZNAME:EDT
DTSTART:20190310T070000
END:DAYLIGHT
BEGIN:STANDARD
TZOFFSETFROM:-0400
TZOFFSETTO:-0500
TZNAME:EST
DTSTART:20191103T060000
END:STANDARD
BEGIN:DAYLIGHT
TZOFFSETFROM:-0500
TZOFFSETTO:-0400
TZNAME:EDT
DTSTART:20200308T070000
END:DAYLIGHT
BEGIN:STANDARD
TZOFFSETFROM:-0400
TZOFFSETTO:-0500
TZNAME:EST
DTSTART:20201101T060000
END:STANDARD
BEGIN:DAYLIGHT
TZOFFSETFROM:-0500
TZOFFSETTO:-0400
TZNAME:EDT
DTSTART:20210314T070000
END:DAYLIGHT
BEGIN:STANDARD
TZOFFSETFROM:-0400
TZOFFSETTO:-0500
TZNAME:EST
DTSTART:20211107T060000
END:STANDARD
END:VTIMEZONE
BEGIN:VEVENT
DTSTART;TZID=America/Toronto:20200128T120000
DTEND;TZID=America/Toronto:20200128T140000
DTSTAMP:20260421T100450
CREATED:20180925T040025Z
LAST-MODIFIED:20200117T200040Z
UID:4220-1580212800-1580220000@group78.org
SUMMARY:January 28\, Justice Dies in Darkness - Luncheon Speaker Series
DESCRIPTION:Group of 78 Luncheon Speaker Series\nHassan Diab\nEvent PDF \n\n\n\nTuesday\, January 28\, 2020 \n 12:00 p.m. \n Palais Imperial Restaurant\, \n 311- 313 Dalhousie St.\, Ottawa\n\n\n\n  \n$30 for luncheon and presentation (12:00 p.m.) \n$5 for presentation only (arrive 12:45 p.m. Coffee and tea will be available) \nRESERVATIONS: Group78@group78.org\, 613-565-9449 ext. 22 or Eventbrite \nJoin us for Lunch RSVP by Friday\, January 24\, 2020\, at 12:00 p.m.\, presentation only participants are welcome to walk in\, seating is on a first-come first-serve basis. \nPayment/registration options:\n1) Interac e-transfer: direct deposit payment to group78@group78.org\, please include a note with your name and email.\n2) e-mail RSVP  (cheque\, cash\, credit\, debit at the door):\n3) Online (Eventbrite) \nOnline Registration \n*Individuals who do not cancel their reservations for the lunch at least 24 hours before the luncheon will be billed $30. \nOutline \nProf. Diab will focus on the repercussions of the little known oppressive Canadian Extradition Law.  He will talk about the absence of any legal protection (due process included) against that “rubber stamp Law” and provide his view of the dire price that anyone accused would pay. \nHassan Diab \nCurrently\, Hassan Diab is a part-time sociology professor at Carleton University. He did his undergraduate studies at Lebanese University in Beirut\, and received his Ph.D. in sociology at Syracuse University in New York. He has taught in many universities in the Middle East and North America.  He was teaching at Ottawa U and Carleton U when he was arrested in 2008 and spent the following decade either under house arrest or in Canadian and French jails. He was finally released from France’s largest jail in 2018.  Since that time he has been fighting for two things: a transparent public inquiry to what happened to him so it doesn’t happen to others; and a significant and meaningful change in the “lousy” Canadian Extradition Act.
URL:https://group78.org/event/01-jan-2020-luncheon/
LOCATION:Palais Imperial Restaurant\, 311- 313 Dalhousie St.\, Ottawa\, Ontario\, Canada
CATEGORIES:Luncheon
ATTACH;FMTTYPE=image/jpeg:https://group78.org/wp-content/uploads/2020/01/2020-01-28Pic.jpg
ORGANIZER;CN="Sarah Bowles":MAILTO:group78@group78.org
END:VEVENT
END:VCALENDAR