BEGIN:VCALENDAR
VERSION:2.0
PRODID:-//Group of 78 - Le Groupe des 78 - ECPv6.15.20//NONSGML v1.0//EN
CALSCALE:GREGORIAN
METHOD:PUBLISH
X-WR-CALNAME:Group of 78 - Le Groupe des 78
X-ORIGINAL-URL:https://group78.org
X-WR-CALDESC:Events for Group of 78 - Le Groupe des 78
REFRESH-INTERVAL;VALUE=DURATION:PT1H
X-Robots-Tag:noindex
X-PUBLISHED-TTL:PT1H
BEGIN:VTIMEZONE
TZID:America/Toronto
BEGIN:DAYLIGHT
TZOFFSETFROM:-0500
TZOFFSETTO:-0400
TZNAME:EDT
DTSTART:20180311T070000
END:DAYLIGHT
BEGIN:STANDARD
TZOFFSETFROM:-0400
TZOFFSETTO:-0500
TZNAME:EST
DTSTART:20181104T060000
END:STANDARD
BEGIN:DAYLIGHT
TZOFFSETFROM:-0500
TZOFFSETTO:-0400
TZNAME:EDT
DTSTART:20190310T070000
END:DAYLIGHT
BEGIN:STANDARD
TZOFFSETFROM:-0400
TZOFFSETTO:-0500
TZNAME:EST
DTSTART:20191103T060000
END:STANDARD
BEGIN:DAYLIGHT
TZOFFSETFROM:-0500
TZOFFSETTO:-0400
TZNAME:EDT
DTSTART:20200308T070000
END:DAYLIGHT
BEGIN:STANDARD
TZOFFSETFROM:-0400
TZOFFSETTO:-0500
TZNAME:EST
DTSTART:20201101T060000
END:STANDARD
END:VTIMEZONE
BEGIN:VEVENT
DTSTART;TZID=America/Toronto:20191126T120000
DTEND;TZID=America/Toronto:20191126T140000
DTSTAMP:20260421T072116
CREATED:20180925T040025Z
LAST-MODIFIED:20191112T183122Z
UID:4189-1574769600-1574776800@group78.org
SUMMARY:November 26\, Haiti: Another catastrophe in the making - Luncheon Speaker Series
DESCRIPTION:Group of 78 Luncheon Speaker Series\nStephen Baranyi\nEvent PDF \n\n\n\nTuesday\, November 26\, 2019 \n 12:00 p.m. \n Palais Imperial Restaurant\, \n 311- 313 Dalhousie St.\, Ottawa\n\n\n\n  \n$30 for luncheon and presentation (12:00 p.m.) \n$5 for presentation only (arrive 12:45 p.m. Coffee and tea will be available) \nRESERVATIONS: Group78@group78.org\, 613-565-9449 ext. 22 or Eventbrite \nJoin us for Lunch RSVP by Friday November 22\, 2019 at 12:00 p.m.\, presentation only participants are welcome to walk in\, seating if first come first serve. \nPayment/registration options:\n1) Interac e-transfer: direct deposit payment to group78@group78.org\, please include a note with your name and email.\n2) e-mail RSVP  (cheque\, cash\, credit\, debit at the door):\n3) Online (Eventbrite) \nOnline Registration \n*Individuals who do not cancel their reservations for the lunch at least 24 hours before the luncheon will be billed $30. \nOutline \nHaiti is attracting renewed attention by the world’s media\, as concerns mount over its converging governance\, economic and security crises. How did Haiti get to this point\, almost ten years after a catastrophic earthquake in January 2010? Who are the key players and what are their agendas? What scenarios can we envisage over the coming year? Where does Canada fit in that panorama? \nStephen Baranyi \nStephen is a professor at the University of Ottawa’s School of International Development\, where he teaches and does research at the intersection of security and development — on issues such as gender (in)equality\, security sector reform and Canada’s engagement in fragile and conflict-affected societies like Haiti. Before moving to uO in 2008\, he was a policy researcher and practitioner with non-governmental and governmental agencies in Ottawa\, London and Guatemala.
URL:https://group78.org/event/29-oct-2019-luncheon-2/
LOCATION:Palais Imperial Restaurant\, 311- 313 Dalhousie St.\, Ottawa\, Ontario\, Canada
CATEGORIES:Luncheon
ATTACH;FMTTYPE=image/jpeg:https://group78.org/wp-content/uploads/2018/09/2018-11-26luncheon.jpg
ORGANIZER;CN="Sarah Bowles":MAILTO:group78@group78.org
END:VEVENT
END:VCALENDAR