BEGIN:VCALENDAR
VERSION:2.0
PRODID:-//Group of 78 - Le Groupe des 78 - ECPv6.15.20//NONSGML v1.0//EN
CALSCALE:GREGORIAN
METHOD:PUBLISH
X-ORIGINAL-URL:https://group78.org
X-WR-CALDESC:Events for Group of 78 - Le Groupe des 78
REFRESH-INTERVAL;VALUE=DURATION:PT1H
X-Robots-Tag:noindex
X-PUBLISHED-TTL:PT1H
BEGIN:VTIMEZONE
TZID:America/Toronto
BEGIN:DAYLIGHT
TZOFFSETFROM:-0500
TZOFFSETTO:-0400
TZNAME:EDT
DTSTART:20180311T070000
END:DAYLIGHT
BEGIN:STANDARD
TZOFFSETFROM:-0400
TZOFFSETTO:-0500
TZNAME:EST
DTSTART:20181104T060000
END:STANDARD
BEGIN:DAYLIGHT
TZOFFSETFROM:-0500
TZOFFSETTO:-0400
TZNAME:EDT
DTSTART:20190310T070000
END:DAYLIGHT
BEGIN:STANDARD
TZOFFSETFROM:-0400
TZOFFSETTO:-0500
TZNAME:EST
DTSTART:20191103T060000
END:STANDARD
BEGIN:DAYLIGHT
TZOFFSETFROM:-0500
TZOFFSETTO:-0400
TZNAME:EDT
DTSTART:20200308T070000
END:DAYLIGHT
BEGIN:STANDARD
TZOFFSETFROM:-0400
TZOFFSETTO:-0500
TZNAME:EST
DTSTART:20201101T060000
END:STANDARD
END:VTIMEZONE
BEGIN:VEVENT
DTSTART;TZID=America/Toronto:20191029T120000
DTEND;TZID=America/Toronto:20191029T140000
DTSTAMP:20260421T054813
CREATED:20180925T040025Z
LAST-MODIFIED:20191008T191455Z
UID:4164-1572350400-1572357600@group78.org
SUMMARY:October 29\, Carbon Tax On Trial - Luncheon Speaker Series
DESCRIPTION:Group of 78 Luncheon Speaker Series\nNathalie Chalifour\, PhD \n Carbon Tax on Trial (PDF) \n\n\n\nTuesday\, October 29\, 2019 \n 12:00 p.m. \n Palais Imperial Restaurant\, \n 311- 313 Dalhousie St.\, Ottawa\n\n\n\n  \n$30 for luncheon and presentation (12:00 p.m.) \n$5 for presentation only (arrive 12:45 p.m. Coffee and tea will be available) \nRESERVATIONS: Group78@group78.org\, 613-565-9449 ext. 22 or Eventbrite \nJoin us for Lunch RSVP by Friday October 25\, 2019 at 12:00 p.m.\, presentation only participants are welcome to walk in\, seating if first come first serve. \nPayment/registration options:\n1) Interac e-transfer: direct deposit payment to group78@group78.org\, please include a note with your name and email.\n2) e-mail RSVP  (cheque\, cash\, credit\, debit at the door):\n3) Online (Eventbrite) \nOnline Registration \n*Individuals who do not cancel their reservations for the lunch at least 24 hours before the luncheon will be billed $30. \nNathalie Chalifour\, PhD  \nNathalie Chalifour is an Associate Professor with the Centre for Environmental Law and Global Sustainability at the Faculty of Law\, University of Ottawa. She is cross-appointed to the Institute of the Environment where she teaches in an interdisciplinary Masters of Environmental Sustainability. Nathalie was elected to the Royal Society of Canada’s College of New Scholars in 2018.  Nathalie’s research lies at the intersection of environment law\, economics and social justice\, with a focus on climate change. Her most recent articles focus on the constitutionality of climate policies\, specifically the division of powers and Charter rights. Nathalie is currently leading a SSHRC-funded project on Environmental Justice in Canadian Law and Policy. She is the co-editor of three international books\, including “Energy\, Governance and Sustainability” (Edward Elgar\, 2016)\, and a fourth collection on Food Law in Canada (Carswell 2019). \nNathalie is actively engaged in the development of Canadian law and policy. She recently served as pro-bono co-counsel to Canada’s Ecofiscal Commission before the Saskatchewan Court of Appeal\, and the United Chiefs and Council of the Mnidoo Mnising before the Ontario Court of Appeal (with Westaway Law)\, in the constitutional challenges to the federal carbon price.  From 2011-2015\, she was Associate Director at the Institute of the Environment where she led the development\, and served as inaugural director\, of the interdisciplinary Masters of Environmental Sustainability. Prior to her academic career\, Nathalie was senior advisor to the President of the National Round Table on the Environment and the Economy\, Policy Advisor to the World Wildlife Fund\, and established TRAFFIC Canada (an NGO that focuses on wildlife trade). She was also an adjunct professor at Widener University and taught at the University of Nairobi\, Kenya. She obtained her Doctorate of Law at Stanford University\, and holds a Master in Juridical Sciences which she obtained as a Stanford Fellow and Fulbright Scholar.
URL:https://group78.org/event/29-oct-2019-luncheon/
LOCATION:Palais Imperial Restaurant\, 311- 313 Dalhousie St.\, Ottawa\, Ontario\, Canada
CATEGORIES:Luncheon
ATTACH;FMTTYPE=image/png:https://group78.org/wp-content/uploads/2019/10/Nathaliechalifour.png
ORGANIZER;CN="Sarah Bowles":MAILTO:group78@group78.org
END:VEVENT
END:VCALENDAR